BEGIN:VCALENDAR
VERSION:2.0
PRODID:-//South East Group - ECPv6.13.2.1//NONSGML v1.0//EN
CALSCALE:GREGORIAN
METHOD:PUBLISH
X-ORIGINAL-URL:https://southeastgolfunion.co.uk
X-WR-CALDESC:Events for South East Group
REFRESH-INTERVAL;VALUE=DURATION:PT1H
X-Robots-Tag:noindex
X-PUBLISHED-TTL:PT1H
BEGIN:VTIMEZONE
TZID:Europe/London
BEGIN:DAYLIGHT
TZOFFSETFROM:+0000
TZOFFSETTO:+0100
TZNAME:BST
DTSTART:20260329T010000
END:DAYLIGHT
BEGIN:STANDARD
TZOFFSETFROM:+0100
TZOFFSETTO:+0000
TZNAME:GMT
DTSTART:20261025T010000
END:STANDARD
END:VTIMEZONE
BEGIN:VEVENT
DTSTART;VALUE=DATE:20260909
DTEND;VALUE=DATE:20260910
DTSTAMP:20260420T050010
CREATED:20240911T223408Z
LAST-MODIFIED:20251215T163317Z
UID:10000409-1788912000-1788998399@southeastgolfunion.co.uk
SUMMARY:Southern Counties Senior Foursomes
DESCRIPTION:
URL:https://southeastgolfunion.co.uk/event/southern-counties-senior-foursomes-2/
LOCATION:West Herts Golf Club\, Rousebarn Lane\, Croxley Green\, Rickmansworth\, WD3 3GG\, United Kingdom
CATEGORIES:Seniors
GEO:51.6603611;-0.4368088
X-APPLE-STRUCTURED-LOCATION;VALUE=URI;X-ADDRESS=West Herts Golf Club Rousebarn Lane Croxley Green Rickmansworth WD3 3GG United Kingdom;X-APPLE-RADIUS=500;X-TITLE=Rousebarn Lane\, Croxley Green:geo:-0.4368088,51.6603611
END:VEVENT
END:VCALENDAR